2.438400000000
0.000000000000
0.000000000000
-2.438400000000
709880.287070935592
4528775.100396686234
