2.438400000000
0.000000000000
0.000000000000
-2.438400000000
680291.874576775010
4444629.552645884500
