2.438400000000
0.000000000000
0.000000000000
-2.438400000000
732254.562327093680
4487804.672220116500
