2.438400000000
0.000000000000
0.000000000000
-2.438400000000
701222.114651600710
4459077.421450659600
