25.400000
0
0
-25.400000
572083.993723
4551084.370189
