2.438400000000
0.000000000000
0.000000000000
-2.438400000000
636090.137293393374
4526927.432961118408
