2.438400000000
0.000000000000
0.000000000000
-2.438400000000
604295.078541408759
4540234.257923780009
