2.438400000000
0.000000000000
0.000000000000
-2.438400000000
594672.636859283200
4470698.697612779215
