2.438400000000
0.000000000000
0.000000000000
-2.438400000000
647177.432589987875
4499393.269525791518
