2.438400000000
0.000000000000
0.000000000000
-2.438400000000
626032.762366290204
4498971.154442641884
