2.438400000000
0.000000000000
0.000000000000
-2.438400000000
615460.565030161757
4498781.137177150697
