2.438400000000
0.000000000000
0.000000000000
-2.438400000000
604887.670042163576
4498608.777105907910
