2.438400000000
0.000000000000
0.000000000000
-2.438400000000
583271.201466041501
4539931.724691694602
