2.438400000000
0.000000000000
0.000000000000
-2.438400000000
616107.770572892623
4457159.134700258262
