2.438400000000
0.000000000000
0.000000000000
-2.438400000000
626974.366366793634
4443471.307811294682
