2.438400000000
0.000000000000
0.000000000000
-2.438400000000
658634.327860874939
4458002.168119642884
