2.438400000000
0.000000000000
0.000000000000
-2.438400000000
584215.091438186355
4456680.956151968800
