2.438400000000
0.000000000000
0.000000000000
-2.438400000000
594316.412538262201
4498448.075360553339
