2.438400000000
0.000000000000
0.000000000000
-2.438400000000
371713.802807880624
4484993.141149952076
