2.438400000000
0.000000000000
0.000000000000
-2.438400000000
371479.565485620289
4471118.343732227571
