2.438400000000
0.000000000000
0.000000000000
-2.438400000000
361350.252492065018
4499061.708898603916
