2.438400000000
0.000000000000
0.000000000000
-2.438400000000
403907.459259849100
4512269.235142905265
