2.438400000000
0.000000000000
0.000000000000
-2.438400000000
404083.717425612325
4526146.178844635375
