2.438400000000
0.000000000000
0.000000000000
-2.438400000000
350208.083441027033
4471513.570319839753
