2.438400000000
0.000000000000
0.000000000000
-2.438400000000
404262.649704199634
4540020.388451925479
