25.400000000000
0.000000000000
0.000000000000
-25.400000000000
236849.958073019225
4549466.680991875008
