2.438400000000
0.000000000000
0.000000000000
-2.438400000000
244477.251292085886
4488162.466628103517
