2.438400000000
0.000000000000
0.000000000000
-2.438400000000
265709.417325963906
4487468.952084838413
