2.438400000000
0.000000000000
0.000000000000
-2.438400000000
288121.210571408912
4528466.930183982477
