2.438400000000
0.000000000000
0.000000000000
-2.438400000000
299056.122366737633
4542048.830827552825
