2.438400000000
0.000000000000
0.000000000000
-2.438400000000
277982.092108935700
4542653.892198204994
