2.438400000000
0.000000000000
0.000000000000
-2.438400000000
319121.754929594754
4499874.864940996282
