2.438400000000
0.000000000000
0.000000000000
-2.438400000000
245422.247455356788
4515918.339219523594
