2.438400000000
0.000000000000
0.000000000000
-2.438400000000
296814.913342220767
4458788.145208467729
