2.438400000000
0.000000000000
0.000000000000
-2.438400000000
307818.550376793661
4472387.676005416550
