2.438400000000
0.000000000000
0.000000000000
-2.438400000000
264418.459092625941
4445839.050829580054
