2.438400000000
0.000000000000
0.000000000000
-2.438400000000
255093.400716784730
4487808.645578974858
