2.438400000000
0.000000000000
0.000000000000
-2.438400000000
318119.672799684340
4458249.517765008844
