2.438400000000
0.000000000000
0.000000000000
-2.438400000000
307117.839208180434
4444633.907120108604
