2.438400000000
0.000000000000
0.000000000000
-2.438400000000
286548.086474595824
4472959.178774070926
