2.438400000000
0.000000000000
0.000000000000
-2.438400000000
286941.442480854806
4486835.214390183799
