2.438400
0.000000
0.000000
-2.438400
318490.206617
4485998.573796
