2.438400
0.000000
0.000000
-2.438400
319439.301286
4513747.622223
