2.438400
0.000000
0.000000
-2.438400
298804.370923
4542041.025991
