2.438400
0.000000
0.000000
-2.438400
307556.382663
4472391.346963
