2.438400
0.000000
0.000000
-2.438400
287590.467209
4514603.113280
