2.438400
0.000000
0.000000
-2.438400
254282.846748
4474053.005352
