2.438400
0.000000
0.000000
-2.438400
243695.557610
4474396.042110
