2.438400
0.000000
0.000000
-2.438400
243276.642543
4460411.966285
