2.438400
0.000000
0.000000
-2.438400
255604.125500
4515534.236821
